BEGIN:VCALENDAR
VERSION:2.0
PRODID:-//Mariscela Alvarez - Free Your Spirit - ECPv6.15.20//NONSGML v1.0//EN
CALSCALE:GREGORIAN
METHOD:PUBLISH
X-WR-CALNAME:Mariscela Alvarez - Free Your Spirit
X-ORIGINAL-URL:https://fyspirit.com
X-WR-CALDESC:Events for Mariscela Alvarez - Free Your Spirit
REFRESH-INTERVAL;VALUE=DURATION:PT1H
X-Robots-Tag:noindex
X-PUBLISHED-TTL:PT1H
BEGIN:VTIMEZONE
TZID:America/Los_Angeles
BEGIN:DAYLIGHT
TZOFFSETFROM:-0800
TZOFFSETTO:-0700
TZNAME:PDT
DTSTART:20230312T100000
END:DAYLIGHT
BEGIN:STANDARD
TZOFFSETFROM:-0700
TZOFFSETTO:-0800
TZNAME:PST
DTSTART:20231105T090000
END:STANDARD
BEGIN:DAYLIGHT
TZOFFSETFROM:-0800
TZOFFSETTO:-0700
TZNAME:PDT
DTSTART:20240310T100000
END:DAYLIGHT
BEGIN:STANDARD
TZOFFSETFROM:-0700
TZOFFSETTO:-0800
TZNAME:PST
DTSTART:20241103T090000
END:STANDARD
BEGIN:DAYLIGHT
TZOFFSETFROM:-0800
TZOFFSETTO:-0700
TZNAME:PDT
DTSTART:20250309T100000
END:DAYLIGHT
BEGIN:STANDARD
TZOFFSETFROM:-0700
TZOFFSETTO:-0800
TZNAME:PST
DTSTART:20251102T090000
END:STANDARD
END:VTIMEZONE
BEGIN:VEVENT
DTSTART;TZID=America/Los_Angeles:20240211T150000
DTEND;TZID=America/Los_Angeles:20240211T180000
DTSTAMP:20260419T133514
CREATED:20240111T201838Z
LAST-MODIFIED:20240111T211129Z
UID:1259-1707663600-1707674400@fyspirit.com
SUMMARY:HEART OPENING CEREMONY IN ROCKLIN!
DESCRIPTION:Sierra Lakes Mobile Home Community: 4300 Rocklin Way\, Rocklin (In the Clubhouse) \n\n“Open your heart and mind like the wings of a butterfly.  See then how high you can fly.” ~ Zeenat Aman \nIn February we celebrate Valentine’s Day\, a day to express love in many forms between couples\, friends\, and family. To dive deeper into Love as a “daily” spiritual practice\, we enter into the realm of ritual. From this place we activate the Power of Self Love and Love for others while being witnessed in our wholeness\, with every breath. \nJoin Mariscela and Theodore to create a Sacred Heart Circle\, a time of heart connection in the Spirit of Love and friendship through the sacredness of Cacao Ceremony and the alchemy of Mandala Breath! \nCeremonial Cacao has been used for centuries and in many cultures as a healing ally to release heavy emotions locked in the body\, while activating the sacred heart center. \nThe word Mandala in Sanskrit means circle and is symbolic of the Universe. Mandalas are used as Spiritual awakening tools and symbols of prayer in various traditions. Together we will experience: \n\nThe gift of ceremonial cacao as a “heart-opener” ally\, helping us to activate Self Love.\nThe sacredness of creating a human Mandala\, representing Creation and Unity.\nThe reverence of connecting in the Spirit of “Namaste\,” which means the divine light within me bows to the divine light within you.\nThe alchemy of your breath as you surrender to what arises in every inhale and exhale.\nThe willingness to release heavy emotions while activating your sacred Heart.\nThe intimacy of being witnessed by another from a place of transparency.\nThe possibility to connect with your Soul family and to create heart-felt friendships.\n\nEnergy Exchange: Sliding Scale $40 to $60 \n*Pre-Payment is highly appreciated to secure your ceremonial cacao* \nYou can pay with Cash App (ma@fyspirit.com) or Facebook or \nFor PayPal and Venmo\, please add $2 more to enjoy your full contribution: Pay with PayPal\, Pay with Venmo \nImportant guidelines to prepare before and after the ceremony will be emailed to you after your register! \nMore information with Mariscela: ma@fyspirit.com\, 530-863-0003 \nIMPORTANT TO KNOW ABOUT CEREMONIAL CACAO: \n\nThe cacao we honor is 100% Peruvian cacao\, ceremonial grade\, organic and\, vegan.\nA cacao ceremony is a type of Shamanic Healing\, but it doesn’t produce “hallucinogenic” or out of body effects.\nCacao is not sustainable for anyone with chocolate\, nut\, chili\, or spice allergies.\nCacao is not recommended for anyone with heart conditions or high blood pressure\, as cacao increases blood flo9w to the brain and the heart.\nDo not take cacao if you take high doses or SSRI/anti-depressant medications and/or suffer from severe mental illness. If you’re sensitive to caffeine or if pregnant (especially 1st trimester.)\nIf any of the above applies to you\, an “herbal tea” option can be available so you can still highly benefit from the energy of the circle and other activities!\n\nIMPORTANT TO KNOW ABOUT BREATHWORK: \n\nPlease consult your Primary Physician if you have any of the following contraindications: cardiovascular disease\, detached retina or glaucoma\, diagnosed brain or abdomen aneurysm\, epilepsy\, diagnosed bipolar or schizophrenia\, uncontrolled diabetes or thyroid conditions\, high blood pressure and pregnancy.\nIf any of the above applies to you\, we invite you to stay with us and breathe through your nose the whole session.\n\n. ..AND MORE: \n\nWomen and men\, 16 years and up are welcome to join us.\nPlease drink plenty of water before and after taking the sacred cacao.\nWe suggest nourishing yourself after the circle\, by enjoying a relaxed rest of your day.\nPlease arrive at 2:45 pm to get settled and start on time.
URL:https://fyspirit.com/event/heart-opening-ceremony-in-rocklin/
LOCATION:Sierra Lakes Mobile Home Community\, 4300 Rocklin Way\, Rocklin\, CA\, United States
ATTACH;FMTTYPE=image/jpeg:https://fyspirit.com/wp-content/uploads/2024/01/Cacao_Mandala-BW_2.11.24.jpg
END:VEVENT
END:VCALENDAR