BEGIN:VCALENDAR
VERSION:2.0
PRODID:-//Mariscela Alvarez - Free Your Spirit - ECPv6.15.20//NONSGML v1.0//EN
CALSCALE:GREGORIAN
METHOD:PUBLISH
X-ORIGINAL-URL:https://fyspirit.com
X-WR-CALDESC:Events for Mariscela Alvarez - Free Your Spirit
REFRESH-INTERVAL;VALUE=DURATION:PT1H
X-Robots-Tag:noindex
X-PUBLISHED-TTL:PT1H
BEGIN:VTIMEZONE
TZID:UTC
BEGIN:STANDARD
TZOFFSETFROM:+0000
TZOFFSETTO:+0000
TZNAME:UTC
DTSTART:20240101T000000
END:STANDARD
END:VTIMEZONE
BEGIN:VEVENT
DTSTART;TZID=UTC:20251105T180000
DTEND;TZID=UTC:20251105T200000
DTSTAMP:20260420T070523
CREATED:20251027T233856Z
LAST-MODIFIED:20251030T205434Z
UID:3260-1762365600-1762372800@fyspirit.com
SUMMARY:TAURUS FULL MOON CACAO CEREMONY!
DESCRIPTION:“The moon is the first milestone on the road to the stars” ~ Arthur C. Clarke \n\nCeremonial Cacao has been used for centuries and in many cultures as a healing ally to release heavy emotions locked in the body\, while activating the sacred heart center. \n\n\nFull Moons are said to amplify emotions\, heighten intuition\, and offer a potent opportunity for spiritual growth and transformation. They bring closure\, endings and completion. \nJoin Mariscela and  Theodore to create a safe and loving container through the sacredness of Cacao Ceremony under the magic light of this Full Moon.  Together we’ll experience: \n♥ The sacredness of ritual as we gather in circle representing creation\, unity\, and equality with the freedom to be our authentic Self \n♥ The gift of ceremonial cacao as a “heart-opener” from where we can become the container of Love in its highest expression. \n♥ The guidance of this Full Moon in Taurus\, a beautiful lunation reminding us to embrace the gifts of Mother Earth\, to be grateful for what we have\, and to see the good things in life. \n♥ The support of sacred cacao and this lunation inviting us to feel SAFE in the process of trusting the guidance of our SOUL. \n\nPre-Registration or RSVP is highly appreciated to secure your Sacred Cacao.\nMariscela: 530-863-0003\, ma@fyspirit.com\n\nEnergy Exchange: Sliding Scale: $20 to $30\nPay through Zelle: ma@fyspirit.com\nVenmo: account.venmo.com/u/freeyourspirit  – PayPal:  paypal.me/mariscelaalvarez\nPlease be sure it is sent to Free Your Spirit\, which is my “business” account. \n\nIMPORTANT TO KNOW ABOUT CEREMONIAL CACAO:\n\nThe cacao we honor is 100% Peruvian cacao\, ceremonial grade\, organic and\, vegan.\nA cacao ceremony is a type of Shamanic Healing\, but it doesn’t produce “hallucinogenic” or out of body effects.\nCacao is not sustainable for anyone with chocolate\, nut\, chili or spice allergies.\nCacao is not recommended for anyone with heart conditions or high blood pressure\, as cacao increases blood flow to the brain and the heart.\nDo not take cacao if you take high doses or SSRI/anti-depressant medications and/or suffer from severe mental illness. If you’re sensitive to caffeine or if pregnant (especially 1st trimester.)\nIf any of the above applies to you\, a “rose” tea can be available so you can still highly benefit from the energy of the circle and other activities!\n\nWHAT TO BRING:\n\nAny sacred item you’d like to place on the altar.\nA bottle with water to drink.\n\nSUGGESTIONS:\n\nDo not eat a big meal prior to the ceremony.\nBe sure to give yourself enough time to arrive before 6:00 pm to get settled and start on time.\nDrink plenty of water before and after taking the sacred cacao.\nNourish yourself after the circle\, by enjoying a relaxed rest of your evening.\n\nPARKING:\n\nAfter coming into the main entrance\, follow the road straight all the way down to the very end\, where the Clubhouse is located.\nAs you approach the Clubhouse from the parking lot\, there are two entrances. Please use the one to the right (next to the swimming pool) as the one on the left is permanently locked!
URL:https://fyspirit.com/event/taurus-full-moon-cacao-ceremony/
LOCATION:Sierra Lakes Mobile Home Community\, 4300 Rocklin Way\, Rocklin\, CA\, United States
CATEGORIES:Cacao Ceremony,Taurus Full Moon Ceremony,Things to do in Rocklin
ATTACH;FMTTYPE=image/jpeg:https://fyspirit.com/wp-content/uploads/2025/10/Taurus-Full-Moon-Cacao-Circle.jpg
ORGANIZER;CN="Mariscela":MAILTO:ma@fyspirit.com
END:VEVENT
END:VCALENDAR